BEGIN:VCALENDAR
PRODID:-//eluceo/ical//2.0/EN
VERSION:2.0
CALSCALE:GREGORIAN
BEGIN:VEVENT
UID:abe3cc94ad7f50622ed9d39a929bdee0
DTSTAMP:20260421T120335Z
SUMMARY:Partneranlass: Wegweisend in Energie: Von Fossil zu Regenerativ
DESCRIPTION:Webseite: http://www.park-hotel.ch\nReferenten/innen: Daniel A.
  Oechslin ist eine herausragende Persönlichkeit im Bereich erneuerbare En
 ergien und Impact Investing. Als CEO von Green Energy Venture AG und Eigen
 tümer sowie Chairman der Holdinggruppe oe.energy (OE-EN & OE-CT) verbinde
 t er strategisches Unternehmertum mit nachhaltiger Innovation.Unter seiner
  Führung bringt oe.energy die gesamte Wertschöpfungskette für erneuerba
 re Energien\, von Technologieentwicklung und Projektfinanzierung über Eng
 ineering bis hin zu Asset-Management\, unter ein Dach. Die Gruppe hat bere
 its über 22 GW Kraftwerkskapazität umgesetzt und mehr als 14 Mrd. Euro i
 n entsprechende Projekte investiert.In diversen Branchenbeiträgen\, z. B.
  beim Innovationsforum Energie\, betont Oechslin die Bedeutung von Sektork
 opplung – also der Integration von Energie\, Verkehr und Wärme – sowi
 e den schrittweisen Aufbau regenerativer\, bürgernaher Energiesysteme wie
  Agrivoltaik\, Nahwärmesystemen und Batteriespeicherlösungen.\n\n\nBerei
 ts im Gespräch mit Fachmedien bezeichnete er sich als „Kraftwerkebauer
 “ – ein Unternehmer\, der mit hohem Engagement einzelne Kraftwerkproje
 kte entlang der gesamten Wertschöpfungskette entwickelt und umsetzt. Sein
 e Gruppe beschäftigt über 850 Mitarbeitende\, davon rund 120 in der Schw
 eiz\, und realisiert jährlich zahlreiche Solar-\, Wind- und Speicheranlag
 en mit hoher Effizienz und praktischem Fokus
URL:https://rotary-laufenburg.ch/de/agenda/show/201809
DTSTART;TZID=Europe/Zurich:20260226T183000
DTEND;TZID=Europe/Zurich:20260226T200000
LOCATION:Park-Hotel am Rhein\, Rheinfelden\, Roberstenstrasse 31\, 4310 Rhe
 infelden\, Schweiz
CATEGORIES:Rotary
END:VEVENT
BEGIN:VTIMEZONE
TZID:Europe/Zurich
BEGIN:STANDARD
DTSTART:20260226T183000
TZNAME:CET
TZOFFSETTO:+0100
TZOFFSETFROM:+0100
END:STANDARD
END:VTIMEZONE
END:VCALENDAR
