BEGIN:VCALENDAR
PRODID:-//eluceo/ical//2.0/EN
VERSION:2.0
CALSCALE:GREGORIAN
BEGIN:VEVENT
UID:d9e2eea34f5e106169d5585667025d5c
DTSTAMP:20260425T130012Z
SUMMARY:Jugendaustausch: Inbound Bianca Duarte Villasanti stellt sich vor
DESCRIPTION:Webseite: https://www.post-boezen.ch/\nReferenten/innen: Im akt
 uellen Clubjahr haben wir Jugendliche\, welche am weltweiten Jugendaustaus
 ch teilnehmen. Unser Inbound Bianca Duarte Villasanti stellt uns sich und 
 ihre Heimat vor.
URL:https://rotary-laufenburg.ch/de/agenda/show/199079
DTSTART;TZID=Europe/Zurich:20250904T120000
DTEND;TZID=Europe/Zurich:20250904T133000
LOCATION:Restaurant Post\, Bözen\, Hauptstrasse 49\, 5076 Bözen\, Schweiz
CATEGORIES:Rotary
END:VEVENT
BEGIN:VTIMEZONE
TZID:Europe/Zurich
BEGIN:DAYLIGHT
DTSTART:20250904T120000
TZNAME:CEST
TZOFFSETTO:+0200
TZOFFSETFROM:+0200
END:DAYLIGHT
END:VTIMEZONE
END:VCALENDAR
