BEGIN:VCALENDAR
PRODID:-//eluceo/ical//2.0/EN
VERSION:2.0
CALSCALE:GREGORIAN
BEGIN:VEVENT
UID:5c949203dbfefdcb69744df8c75c8597
DTSTAMP:20260420T205940Z
SUMMARY:André Moeri - BaselCircular
DESCRIPTION:Webseite: http://www.park-hotel.ch\nReferenten/innen: Ein Inno
 ­va­tions­öko­system für BaselBaselCircular ist eine Public-Private-
 Partnership zwischen dem Kanton Basel-Stadt und der Eckenstein-Geigy Stift
 ung. In den kommenden Jahren will BaselCircular gemeinsam mit und für die
  Basler Wirtschaft ein vernetztes Innovationsökosystem von nationaler Aus
 strahlung aufbauen. Ein Ökosystem\, in dem etablierte Unternehmen Innova
 tionsprojekte im Bereich der Kreislaufwirtschaft umsetzen\, Startups mass
 geschneiderte Unterstützungsangebote erhalten\, um ihre Geschäftsmodelle
  zu skalieren\, und Hochschulen sowie Forschungsinstitute als Know-how- u
 nd Lösungspartner eingebunden sind.BaselCircular särkt Förderprogramme
  und Organisationen und fördern Projekte\, welche die Struk­tu­ren und 
 Lösungen für etablierte Unternehmen und Startups in der Kreis­lauf­wir
 t­schaft schaffen – nach dem Prinzip «Enabling the Enabler».  \n\n
URL:https://rotary-laufenburg.ch/de/agenda/show/199072
DTSTART;TZID=Europe/Zurich:20250724T120000
DTEND;TZID=Europe/Zurich:20250724T133000
LOCATION:Park-Hotel am Rhein\, Rheinfelden\, Roberstenstrasse 31\, 4310 Rhe
 infelden\, Schweiz
CATEGORIES:Rotary
END:VEVENT
BEGIN:VTIMEZONE
TZID:Europe/Zurich
BEGIN:DAYLIGHT
DTSTART:20250724T120000
TZNAME:CEST
TZOFFSETTO:+0200
TZOFFSETFROM:+0200
END:DAYLIGHT
END:VTIMEZONE
END:VCALENDAR
