BEGIN:VCALENDAR
PRODID:-//eluceo/ical//2.0/EN
VERSION:2.0
CALSCALE:GREGORIAN
BEGIN:VEVENT
UID:4e521749ddd7d9b0d7ef62faaf9699d0
DTSTAMP:20260420T224059Z
SUMMARY:Plauderlunch - Partneranlass
DESCRIPTION:Webseite: http://www.park-hotel.ch
URL:https://rotary-laufenburg.ch/de/agenda/show/197360
DTSTART;TZID=Europe/Zurich:20250731T183000
DTEND;TZID=Europe/Zurich:20250731T200000
LOCATION:Park-Hotel am Rhein\, Rheinfelden\, Roberstenstrasse 31\, 4310 Rhe
 infelden\, Schweiz
CATEGORIES:Rotary
END:VEVENT
BEGIN:VTIMEZONE
TZID:Europe/Zurich
BEGIN:DAYLIGHT
DTSTART:20250731T183000
TZNAME:CEST
TZOFFSETTO:+0200
TZOFFSETFROM:+0200
END:DAYLIGHT
END:VTIMEZONE
END:VCALENDAR
