BEGIN:VCALENDAR
PRODID:-//eluceo/ical//2.0/EN
VERSION:2.0
CALSCALE:GREGORIAN
BEGIN:VEVENT
UID:dfd3f36a2a093f86ac14b889447b2b48
DTSTAMP:20260425T023014Z
SUMMARY:Fronleichnam - KEIN LUNCH
DESCRIPTION:Referenten/innen: Wir wünschen euch allen einen schönen Feier
 tag!
URL:https://rotary-laufenburg.ch/de/agenda/show/187669
DTSTART;TZID=Europe/Zurich:20250619T120000
DTEND;TZID=Europe/Zurich:20250619T133000
LOCATION:KEIN LUNCH
CATEGORIES:Rotary
END:VEVENT
BEGIN:VTIMEZONE
TZID:Europe/Zurich
BEGIN:DAYLIGHT
DTSTART:20250619T120000
TZNAME:CEST
TZOFFSETTO:+0200
TZOFFSETFROM:+0200
END:DAYLIGHT
END:VTIMEZONE
END:VCALENDAR
