BEGIN:VCALENDAR
PRODID:-//eluceo/ical//2.0/EN
VERSION:2.0
CALSCALE:GREGORIAN
BEGIN:VEVENT
UID:fd3bf659ae2b2e7a01f422d20485d179
DTSTAMP:20260425T124033Z
SUMMARY:Feierabendbier mit dem RC Rheinfelden - Fricktal
DESCRIPTION:Webseite: https://brauwelt.ch/restaurant\nReferenten/innen: Wir
  laden zum Feierabendbier ein! 
URL:https://rotary-laufenburg.ch/de/agenda/show/178529
DTSTART;TZID=Europe/Zurich:20240806T180000
DTEND;TZID=Europe/Zurich:20240806T190000
LOCATION:Restaurant Feldschlösschen\, Feldschlösschenstrasse 32\, 4310 Rh
 einfelden
CATEGORIES:Rotary
END:VEVENT
BEGIN:VTIMEZONE
TZID:Europe/Zurich
BEGIN:DAYLIGHT
DTSTART:20240806T180000
TZNAME:CEST
TZOFFSETTO:+0200
TZOFFSETFROM:+0200
END:DAYLIGHT
END:VTIMEZONE
END:VCALENDAR
