BEGIN:VCALENDAR
PRODID:-//eluceo/ical//2.0/EN
VERSION:2.0
CALSCALE:GREGORIAN
BEGIN:VEVENT
UID:98e0d8e1b0830f5c9f33b135896ecfd4
DTSTAMP:20260424T104848Z
SUMMARY:Thomas Kirchhofer\, SANNI Foundation\, Myanmar
DESCRIPTION:Webseite: http://www.park-hotel.ch\nReferenten/innen: Feier Neu
 aufnahmen
URL:https://rotary-laufenburg.ch/de/agenda/show/170006
DTSTART;TZID=Europe/Zurich:20240118T120000
DTEND;TZID=Europe/Zurich:20240118T133000
LOCATION:Park-Hotel am Rhein\, Rheinfelden\, Roberstenstrasse 31\, 4310 Rhe
 infelden\, Schweiz
CATEGORIES:Rotary
END:VEVENT
BEGIN:VTIMEZONE
TZID:Europe/Zurich
BEGIN:STANDARD
DTSTART:20240118T120000
TZNAME:CET
TZOFFSETTO:+0100
TZOFFSETFROM:+0100
END:STANDARD
END:VTIMEZONE
END:VCALENDAR
