BEGIN:VCALENDAR
PRODID:-//eluceo/ical//2.0/EN
VERSION:2.0
CALSCALE:GREGORIAN
BEGIN:VEVENT
UID:f20b6ad4026ade459aa36281017da3b9
DTSTAMP:20260423T133004Z
SUMMARY:Chemie Olympiade\, Lucia Meier
DESCRIPTION:Webseite: https://www.post-boezen.ch\nReferenten/innen: Lucia M
 eier referiert über Organisation und Teilnahme der Chemie-Olympiade.
URL:https://rotary-laufenburg.ch/de/agenda/show/162368
DTSTART;TZID=Europe/Zurich:20230907T120000
DTEND;TZID=Europe/Zurich:20230907T133000
LOCATION:Restaurant Post\, Bözen\, Hauptstrasse 49\, 5076 Bözen\, Schweiz
CATEGORIES:Rotary
END:VEVENT
BEGIN:VTIMEZONE
TZID:Europe/Zurich
BEGIN:DAYLIGHT
DTSTART:20230907T120000
TZNAME:CEST
TZOFFSETTO:+0200
TZOFFSETFROM:+0200
END:DAYLIGHT
END:VTIMEZONE
END:VCALENDAR
