BEGIN:VCALENDAR
PRODID:-//eluceo/ical//2.0/EN
VERSION:2.0
CALSCALE:GREGORIAN
BEGIN:VEVENT
UID:4fb8a3776b581d2e8a6cc969ad3bc356
DTSTAMP:20260423T133130Z
SUMMARY:Feierabendbier mit RC Rheinfelden
DESCRIPTION:Webseite: https://brauwelt.ch/de/restaurant/
URL:https://rotary-laufenburg.ch/de/agenda/show/161039
DTSTART;TZID=Europe/Zurich:20230912T180000
DTEND;TZID=Europe/Zurich:20230912T190000
LOCATION:Restaurant Feldschlösschen
CATEGORIES:Rotary
END:VEVENT
BEGIN:VTIMEZONE
TZID:Europe/Zurich
BEGIN:DAYLIGHT
DTSTART:20230912T180000
TZNAME:CEST
TZOFFSETTO:+0200
TZOFFSETFROM:+0200
END:DAYLIGHT
END:VTIMEZONE
END:VCALENDAR
