BEGIN:VCALENDAR
PRODID:-//eluceo/ical//2.0/EN
VERSION:2.0
CALSCALE:GREGORIAN
BEGIN:VEVENT
UID:b5ecd2ba335423067167f1bbedb40f09
DTSTAMP:20260423T185237Z
SUMMARY:Hightechzentrum Aargau
DESCRIPTION:Webseite: http://www.park-hotel.ch\nReferenten/innen: Marcus Mo
 rstein
URL:https://rotary-laufenburg.ch/de/agenda/show/154662
DTSTART;TZID=Europe/Zurich:20230216T121500
DTEND;TZID=Europe/Zurich:20230216T133000
LOCATION:Park-Hotel am Rhein\, Rheinfelden\, Roberstenstrasse 31\, 4310 Rhe
 infelden
CATEGORIES:Rotary
END:VEVENT
BEGIN:VTIMEZONE
TZID:Europe/Zurich
BEGIN:STANDARD
DTSTART:20230216T121500
TZNAME:CET
TZOFFSETTO:+0100
TZOFFSETFROM:+0100
END:STANDARD
END:VTIMEZONE
END:VCALENDAR
