BEGIN:VCALENDAR
PRODID:-//eluceo/ical//2.0/EN
VERSION:2.0
CALSCALE:GREGORIAN
BEGIN:VEVENT
UID:d96c6dfd1eadb39781a64b546e50d6ca
DTSTAMP:20260421T121240Z
SUMMARY:Präsenzfrühstück
DESCRIPTION:Web stranica: https://beck-maier.ch\nGovornik(ci): Präsenzfrü
 hstück – neu in der Bäckerei Maier\, Möhlin\nWir laden herzlich zum R
 otary-Präsenzfrühstück ein. Ab sofort treffen wir uns in der Bäckerei 
 Maier in Möhlin\, wo uns ein gemütliches Ambiente und feine Backwaren er
 warten. Eine wunderbare Gelegenheit für Austausch\, Vernetzung und einen 
 inspirierten Start in den Tag!  
URL:https://rotary-laufenburg.ch/bs/agenda/show/197261
DTSTART;TZID=Europe/Zurich:20250912T063000
DTEND;TZID=Europe/Zurich:20250912T073000
LOCATION:Beck Maier\, Hauptstrasse 77\, 4313 Möhlin\, Schweiz
CATEGORIES:Rotary
END:VEVENT
BEGIN:VTIMEZONE
TZID:Europe/Zurich
BEGIN:DAYLIGHT
DTSTART:20250912T063000
TZNAME:CEST
TZOFFSETTO:+0200
TZOFFSETFROM:+0200
END:DAYLIGHT
END:VTIMEZONE
END:VCALENDAR
