BEGIN:VCALENDAR
PRODID:-//eluceo/ical//2.0/EN
VERSION:2.0
CALSCALE:GREGORIAN
BEGIN:VEVENT
UID:06f669c43360a938098fb2703cdded7c
DTSTAMP:20260423T105102Z
SUMMARY:Feierabendbier mit dem RC Rheinfelden - Fricktal
DESCRIPTION:Web stranica: https://brauwelt.ch/restaurant\nGovornik(ci): Wir
  laden zum Feierabendbier ein! 
URL:https://rotary-laufenburg.ch/bs/agenda/show/197248
DTSTART;TZID=Europe/Zurich:20250708T180000
DTEND;TZID=Europe/Zurich:20250708T193000
LOCATION:Restaurant Feldschlösschen\, Feldschlösschenstrasse 32\, 4310 Rh
 einfelden
CATEGORIES:Rotary
END:VEVENT
BEGIN:VTIMEZONE
TZID:Europe/Zurich
BEGIN:DAYLIGHT
DTSTART:20250708T180000
TZNAME:CEST
TZOFFSETTO:+0200
TZOFFSETFROM:+0200
END:DAYLIGHT
END:VTIMEZONE
END:VCALENDAR
