BEGIN:VCALENDAR
PRODID:-//eluceo/ical//2.0/EN
VERSION:2.0
CALSCALE:GREGORIAN
BEGIN:VEVENT
UID:b8135d71672764a42bfac83d43025447
DTSTAMP:20260421T080318Z
SUMMARY:Prof. Dr. Bernhard Lehmann\, Präsident des FiBL-Sitftungsrats
DESCRIPTION:Web stranica: http://www.park-hotel.ch\nGovornik(ci): Prof. Dr.
  Bernhard Lehmann\, Präsident FiBL-Stiftungsrat referiert zu Ernährung u
 nd Landwirtschaft
URL:https://rotary-laufenburg.ch/bs/agenda/show/188402
DTSTART;TZID=Europe/Zurich:20250515T120000
DTEND;TZID=Europe/Zurich:20250515T133000
LOCATION:Park-Hotel am Rhein\, Rheinfelden\, Roberstenstrasse 31\, 4310 Rhe
 infelden\, Schweiz
CATEGORIES:Rotary
END:VEVENT
BEGIN:VTIMEZONE
TZID:Europe/Zurich
BEGIN:DAYLIGHT
DTSTART:20250515T120000
TZNAME:CEST
TZOFFSETTO:+0200
TZOFFSETFROM:+0200
END:DAYLIGHT
END:VTIMEZONE
END:VCALENDAR
