BEGIN:VCALENDAR
PRODID:-//eluceo/ical//2.0/EN
VERSION:2.0
CALSCALE:GREGORIAN
BEGIN:VEVENT
UID:573c64cc52d156ff205337686fe4b293
DTSTAMP:20260423T105118Z
SUMMARY:Sparlunch - Marion Wegner-Hänggi Co-Geschäftsleitung Stadelbach
DESCRIPTION:Web stranica: http://www.stadelbach.ch\nGovornik(ci): Wir freue
 n uns auf den Spar-Lunch im Stadelbach in Möhlin.
URL:https://rotary-laufenburg.ch/bs/agenda/show/187674
DTSTART;TZID=Europe/Zurich:20250605T110000
DTEND;TZID=Europe/Zurich:20250605T133000
LOCATION:Alters- und Pflegeheim Stadelbach\, Landstrasse 60\, 4313 Möhlin
CATEGORIES:Rotary
END:VEVENT
BEGIN:VTIMEZONE
TZID:Europe/Zurich
BEGIN:DAYLIGHT
DTSTART:20250605T110000
TZNAME:CEST
TZOFFSETTO:+0200
TZOFFSETFROM:+0200
END:DAYLIGHT
END:VTIMEZONE
END:VCALENDAR
