BEGIN:VCALENDAR
PRODID:-//eluceo/ical//2.0/EN
VERSION:2.0
CALSCALE:GREGORIAN
BEGIN:VEVENT
UID:1b1bc269889e0a164f39faa5e8840840
DTSTAMP:20260421T121019Z
SUMMARY:Präsenzfrühstück
DESCRIPTION:Web stranica: http://www.kunz-baeckerei.ch\nGovornik(ci): Gerne
  laden wir dich zum feinen Präsenzfrühstück ein!
URL:https://rotary-laufenburg.ch/bs/agenda/show/183123
DTSTART;TZID=Europe/Zurich:20250509T063000
DTEND;TZID=Europe/Zurich:20250509T073000
LOCATION:Bäckerei Kunz\, Stein/AG\, Brotkorbstrasse 1\, 4322 Stein\, Schwe
 iz
CATEGORIES:Rotary
END:VEVENT
BEGIN:VTIMEZONE
TZID:Europe/Zurich
BEGIN:DAYLIGHT
DTSTART:20250509T063000
TZNAME:CEST
TZOFFSETTO:+0200
TZOFFSETFROM:+0200
END:DAYLIGHT
END:VTIMEZONE
END:VCALENDAR
