BEGIN:VCALENDAR
PRODID:-//eluceo/ical//2.0/EN
VERSION:2.0
CALSCALE:GREGORIAN
BEGIN:VEVENT
UID:56f3381c92aff3aa1e76c03fad342e53
DTSTAMP:20260421T174251Z
SUMMARY:Berchtoldstag - KEIN LUNCH
DESCRIPTION:Govornik(ci): Wir wünschen euch allen einen schönen Berchtold
 stag!
URL:https://rotary-laufenburg.ch/bs/agenda/show/178643
DTSTART;TZID=Europe/Zurich:20250102T120000
DTEND;TZID=Europe/Zurich:20250102T133000
LOCATION:KEIN LUNCH
CATEGORIES:Rotary
END:VEVENT
BEGIN:VTIMEZONE
TZID:Europe/Zurich
BEGIN:STANDARD
DTSTART:20250102T120000
TZNAME:CET
TZOFFSETTO:+0100
TZOFFSETFROM:+0100
END:STANDARD
END:VTIMEZONE
END:VCALENDAR
