BEGIN:VCALENDAR
PRODID:-//eluceo/ical//2.0/EN
VERSION:2.0
CALSCALE:GREGORIAN
BEGIN:VEVENT
UID:0b9bbd5469018d45b6656c90e9b263d6
DTSTAMP:20260422T193047Z
SUMMARY:Niklaus Zepf\, Axpo Holding AG
DESCRIPTION:Web stranica: http://www.park-hotel.ch\nGovornik(ci): Nick Zepf
 \, Leiter Corporate Development der Axpo Holding AG\, spricht über die St
 ormsituation 2023-24. 
URL:https://rotary-laufenburg.ch/bs/agenda/show/162379
DTSTART;TZID=Europe/Zurich:20230928T120000
DTEND;TZID=Europe/Zurich:20230928T133000
LOCATION:Park-Hotel am Rhein\, Rheinfelden\, Roberstenstrasse 31\, 4310 Rhe
 infelden
CATEGORIES:Rotary
END:VEVENT
BEGIN:VTIMEZONE
TZID:Europe/Zurich
BEGIN:DAYLIGHT
DTSTART:20230928T120000
TZNAME:CEST
TZOFFSETTO:+0200
TZOFFSETFROM:+0200
END:DAYLIGHT
END:VTIMEZONE
END:VCALENDAR
