BEGIN:VCALENDAR
PRODID:-//eluceo/ical//2.0/EN
VERSION:2.0
CALSCALE:GREGORIAN
BEGIN:VEVENT
UID:4045179fc1aea863a730086a90424bd3
DTSTAMP:20260422T212446Z
SUMMARY:Präsenzfrühstück
DESCRIPTION:Web stranica: http://www.kunz-baeckerei.ch
URL:https://rotary-laufenburg.ch/bs/agenda/show/161034
DTSTART;TZID=Europe/Zurich:20230714T063000
DTEND;TZID=Europe/Zurich:20230714T070000
LOCATION:Bäckerei Kunz\, Stein/AG\, Brotkorbstrasse 1\, 4322 Stein / AG
CATEGORIES:Rotary
END:VEVENT
BEGIN:VTIMEZONE
TZID:Europe/Zurich
BEGIN:DAYLIGHT
DTSTART:20230714T063000
TZNAME:CEST
TZOFFSETTO:+0200
TZOFFSETFROM:+0200
END:DAYLIGHT
END:VTIMEZONE
END:VCALENDAR
