BEGIN:VCALENDAR
PRODID:-//eluceo/ical//2.0/EN
VERSION:2.0
CALSCALE:GREGORIAN
BEGIN:VEVENT
UID:e20cb6a63d3e428ca8da090dac1c7270
DTSTAMP:20260422T212152Z
SUMMARY:Plauderlunch
DESCRIPTION:Web stranica: http://www.park-hotel.ch\nGovornik(ci): 
URL:https://rotary-laufenburg.ch/bs/agenda/show/158331
DTSTART;TZID=Europe/Zurich:20230629T121500
DTEND;TZID=Europe/Zurich:20230629T133000
LOCATION:Park-Hotel am Rhein\, Rheinfelden\, Roberstenstrasse 31\, 4310 Rhe
 infelden
CATEGORIES:Rotary
END:VEVENT
BEGIN:VTIMEZONE
TZID:Europe/Zurich
BEGIN:DAYLIGHT
DTSTART:20230629T121500
TZNAME:CEST
TZOFFSETTO:+0200
TZOFFSETFROM:+0200
END:DAYLIGHT
END:VTIMEZONE
END:VCALENDAR
