BEGIN:VCALENDAR
PRODID:-//eluceo/ical//2.0/EN
VERSION:2.0
CALSCALE:GREGORIAN
BEGIN:VEVENT
UID:f8752c094a66cdbec368b93678b50758
DTSTAMP:20260422T230557Z
SUMMARY:Präsenzfrühstück
DESCRIPTION:Web stranica: http://www.kunz-baeckerei.ch
URL:https://rotary-laufenburg.ch/bs/agenda/show/154666
DTSTART;TZID=Europe/Zurich:20230310T063000
DTEND;TZID=Europe/Zurich:20230310T073000
LOCATION:Bäckerei Kunz\, Stein/AG\, Brotkorbstrasse 1\, 4322 Stein / AG
CATEGORIES:Rotary
END:VEVENT
BEGIN:VTIMEZONE
TZID:Europe/Zurich
BEGIN:STANDARD
DTSTART:20230310T063000
TZNAME:CET
TZOFFSETTO:+0100
TZOFFSETFROM:+0100
END:STANDARD
END:VTIMEZONE
END:VCALENDAR
